Workbook

Sheet PPA 2025
A1: PLAN PREVISIONNEL D'ACHAT 2025
K3: Lieu d'exécution des prestations
A4: N° | B4: Domaine | C4: Sous-domaine | D4: Sigle du ministère | E4: Nom de l'acheteur | F4: Type PAYS/ETAB | G4: Catégorie de marché ou accord-cadre (Fournitures, Services, Travaux) | H4: Objet du marché | I4: Marché ou accord-cadre estimé à (XPF HT) | J4: Type de procédure | K4: Archipel | L4: Ile | M4: Mois prévisionnel de consultation
A5: 1 | B5: =IF(C5="","",VLOOKUP(C5,'Domaines et sous domaines'!$D$3:$E$64,2,FALSE)) -> Biens immobiliers et travaux de construction | C5: Prestations intellectuelles travaux | D5: PR | E5: SDT | F5: PAYS | G5: Travaux | H5: Construction de sanitaires sur le site de Taharuu | I5: Marché entre 20M XPF HT et 34M XPF HT | J5: Procédure adaptée | K5: IDV | L5: Tahiti | M5: 45717
A6: 1 | B6: =IF(C6="","",VLOOKUP(C6,'Domaines et sous domaines'!$D$3:$E$64,2,FALSE)) -> Biens immobiliers et travaux de construction | C6: Opération de travaux individuels bâtiments | D6: PR | E6: SDT | F6: PAYS | G6: Services | H6: Maîtrise d'œuvre, aménagement Toaroto | I6: Marché entre 8M XPF HT et 19M XPF HT | J6: Procédure adaptée | K6: IDV | L6: Tahiti | M6: 45748
A7: 1 | B7: =IF(C7="","",VLOOKUP(C7,'Domaines et sous domaines'!$D$3:$E$64,2,FALSE)) -> Biens immobiliers et travaux de construction | C7: Opération de travaux individuels bâtiments | D7: PR | E7: SDT | F7: PAYS | G7: Travaux | H7: Travaux de réhabilitation du site du Trou du Souffleur | I7: Marché entre 8M XPF HT et 19M XPF HT | J7: Procédure adaptée | K7: IDV | L7: Tahiti | M7: 45962
A8: 1 | B8: =IF(C8="","",VLOOKUP(C8,'Domaines et sous domaines'!$D$3:$E$64,2,FALSE)) -> Biens immobiliers et travaux de construction | C8: Opération de travaux individuels bâtiments | D8: PR | E8: SDT | F8: PAYS | G8: Travaux | H8: Travaux de démolition du musée Gauguin, Papeari | I8: Marché entre 20M XPF HT et 34M XPF HT | J8: Procédure adaptée | K8: IDV | L8: Tahiti | M8: 45962
A9: 1 | B9: =IF(C9="","",VLOOKUP(C9,'Domaines et sous domaines'!$D$3:$E$64,2,FALSE)) -> Maintenance et exploitation bâtiments et infrastructures | C9: Prestation de services sur bâtiments | D9: PR | E9: SDT | F9: PAYS | G9: Services | H9: Entretien de sites touristiques espaces verts Tahiti (3) Raiatea (1) et Nuku Hiva (1) - 2 ans | I9: Marché entre 20M XPF HT et 34M XPF HT | J9: Procédure adaptée | K9: IDV | L9: Tahiti | M9: 45689
A10: 1 | B10: =IF(C10="","",VLOOKUP(C10,'Domaines et sous domaines'!$D$3:$E$64,2,FALSE)) -> Maintenance et exploitation bâtiments et infrastructures | C10: Prestation de services sur bâtiments | D10: PR | E10: SDT | F10: PAYS | G10: Services | H10: Entretien de sentiers de randonnée (2) sur l'île de Tahiti - 2 ans | I10: Marché entre 20M XPF HT et 34M XPF HT | J10: Procédure adaptée | K10: IDV | L10: Tahiti | M10: 45689
A11: 1 | B11: =IF(C11="","",VLOOKUP(C11,'Domaines et sous domaines'!$D$3:$E$64,2,FALSE)) -> Maintenance et exploitation bâtiments et infrastructures | C11: Prestation de services sur bâtiments | D11: PR | E11: SDT | F11: PAYS | G11: Services | H11: Entretien d'un site touristique (en attente de DSP) - 1 an max | I11: Marché entre 8M XPF HT et 19M XPF HT | J11: Procédure adaptée | K11: IDV | L11: Tahiti | M11: 45689
A12: 1 | B12: =IF(C12="","",VLOOKUP(C12,'Domaines et sous domaines'!$D$3:$E$64,2,FALSE)) -> Maintenance et exploitation bâtiments et infrastructures | C12: Prestation de services sur bâtiments | D12: PR | E12: SDT | F12: PAYS | G12: Services | H12: Entretien de sentiers de randonnée (3) sur Nuku Hiva - 2 ans | I12: Marché entre 8M XPF HT et 19M XPF HT | J12: Procédure adaptée | K12: MARQUISES | L12: Nuku Hiva | M12: 45717
A13: 1 | B13: =IF(C13="","",VLOOKUP(C13,'Domaines et sous domaines'!$D$3:$E$64,2,FALSE)) -> Maintenance et exploitation bâtiments et infrastructures | C13: Prestation de services sur bâtiments | D13: PR | E13: SDT | F13: PAYS | G13: Services | H13: Entretien de sentiers de randonnée (2) sur Rurutu - 2 ans | I13: Marché entre 8M XPF HT et 19M XPF HT | J13: Procédure adaptée | K13: AUSTRALES | L13: Rurutu | M13: 45717
A14: 1 | B14: =IF(C14="","",VLOOKUP(C14,'Domaines et sous domaines'!$D$3:$E$64,2,FALSE)) -> Maintenance et exploitation bâtiments et infrastructures | C14: Prestation de services sur bâtiments | D14: PR | E14: SDT | F14: PAYS | G14: Services | H14: Entretien d'un site touristique espaces verts (Tahua Motu Ovini) - 2 ans | I14: Marché entre 20M XPF HT et 34M XPF HT | J14: Procédure adaptée | K14: IDV | L14: Tahiti | M14: 45962
A15: 1 | B15: =IF(C15="","",VLOOKUP(C15,'Domaines et sous domaines'!$D$3:$E$64,2,FALSE)) -> Maintenance et exploitation bâtiments et infrastructures | C15: Prestation de services sur bâtiments | D15: PR | E15: SDT | F15: PAYS | G15: Services | H15: Entretien d'un site touristique sanitaires (Tahua Motu Ovini) 2 ans | I15: Marché entre 20M XPF HT et 34M XPF HT | J15: Procédure adaptée | K15: IDV | L15: Tahiti | M15: 45962
A16: 1 | B16: =IF(C16="","",VLOOKUP(C16,'Domaines et sous domaines'!$D$3:$E$64,2,FALSE)) -> Maintenance et exploitation bâtiments et infrastructures | C16: Prestation de services sur bâtiments | D16: PR | E16: SDT | F16: PAYS | G16: Services | H16: Gardiennage de sites touristiques 2 sites (Taharaa et Pointe Venus) - 3 ans | I16: Marché entre 20M XPF HT et 34M XPF HT | J16: Procédure adaptée | K16: IDV | L16: Tahiti | M16: 45901
... A102: 4 | B102: =IF(C102="","",VLOOKUP(C102,'Domaines et sous domaines'!$D$3:$E$64,2,FALSE)) -> Biens immobiliers et travaux de construction | C102: Opération de travaux individuels infrastructures transports et routes | D102: MGT | E102: DEQ | F102: PAYS | G102: Travaux | H102: Construction d'une passerelle et aménagement d'un cheminement sur le front de mer de Tipaerui (3IF 2025) | I102: Marché strictement supérieur à 500M XPF HT | J102: Appel d'offres ouvert | K102: IDV | L102: Tahiti | M102: 45717
A103: 4 | B103: =IF(C103="","",VLOOKUP(C103,'Domaines et sous domaines'!$D$3:$E$64,2,FALSE)) -> Biens immobiliers et travaux de construction | C103: Opération de travaux individuels infrastructures transports et routes | D103: MGT | E103: DEQ | F103: PAYS | G103: Travaux | H103: Travaux routiers et assainissement RT1, RDO, RDP et RT4 - Tahiti (3IF 2025) | I103: Marché entre 100M XPF HT et 499M XPF HT | J103: Appel d'offres ouvert | K103: IDV | L103: Tahiti
A104: 4 | B104: =IF(C104="","",VLOOKUP(C104,'Domaines et sous domaines'!$D$3:$E$64,2,FALSE)) -> Biens immobiliers et travaux de construction | C104: Opération de travaux individuels infrastructures transports et routes | D104: MGT | E104: DEQ | F104: PAYS | G104: Travaux | H104: Aérodrome de Aratika - Mise aux normes en code 3C (3IF 2024) | I104: Marché strictement supérieur à 500M XPF HT | J104: Appel d'offres ouvert | K104: TUAMOTU | L104: ARATIKA | M104: 45839
A105: 4 | B105: =IF(C105="","",VLOOKUP(C105,'Domaines et sous domaines'!$D$3:$E$64,2,FALSE)) -> Biens immobiliers et travaux de construction | C105: Opération de travaux individuels infrastructures transports et routes | D105: MGT | E105: DEQ | F105: PAYS | G105: Travaux | H105: Réaménagement des giratoires en carrefours à feux de la RT 7 | I105: Marché strictement supérieur à 500M XPF HT | J105: Appel d'offres ouvert | K105: IDV | L105: Tahiti | M105: 45870
A106: 4 | B106: =IF(C106="","",VLOOKUP(C106,'Domaines et sous domaines'!$D$3:$E$64,2,FALSE)) -> Biens immobiliers et travaux de construction | C106: Opération de travaux individuels infrastructures transports et routes | D106: MGT | E106: DEQ | F106: PAYS | G106: Travaux | H106: Mises aux normes 2C de l'aérodrome de NAPUKA - Travaux (3IF 2025) | I106: Marché strictement supérieur à 500M XPF HT | J106: Appel d'offres ouvert | K106: TUAMOTU | L106: Napuka | M106: 45689
A107: 4 | B107: =IF(C107="","",VLOOKUP(C107,'Domaines et sous domaines'!$D$3:$E$64,2,FALSE)) -> Biens immobiliers et travaux de construction | C107: Opération de travaux individuels infrastructures transports et routes | D107: MGT | E107: DEQ | F107: PAYS | G107: Travaux | H107: Construction d'un débarcadère à Kauehi - Travaux (3IF 2025) | I107: Marché strictement supérieur à 500M XPF HT | J107: Appel d'offres ouvert | K107: TUAMOTU | L107: Kauehi | M107: 45658
A108: 4 | B108: =IF(C108="","",VLOOKUP(C108,'Domaines et sous domaines'!$D$3:$E$64,2,FALSE)) -> Biens immobiliers et travaux de construction | C108: Opération de travaux individuels infrastructures transports et routes | D108: MGT | E108: DEQ | F108: PAYS | G108: Travaux | H108: Réfection du quai de Fakarava - Travaux (3IF 2025) | I108: Marché strictement supérieur à 500M XPF HT | J108: Appel d'offres ouvert | K108: TUAMOTU | L108: Fakarava | M108: 45778
A109: 4 | B109: =IF(C109="","",VLOOKUP(C109,'Domaines et sous domaines'!$D$3:$E$64,2,FALSE)) -> Biens immobiliers et travaux de construction | C109: Opération de travaux individuels infrastructures transports et routes | D109: MGT | E109: DEQ | F109: PAYS | G109: Travaux | H109: Sécurisation du talus du virage sur la RT2 du PK 42,9 au PK 43,2 | I109: Marché entre 35M XPF HT et 99M XPF HT | J109: Appel d'offres ouvert | K109: IDV | L109: Tahiti
A110: 4 | B110: =IF(C110="","",VLOOKUP(C110,'Domaines et sous domaines'!$D$3:$E$64,2,FALSE)) -> Biens immobiliers et travaux de construction | C110: Opération de travaux individuels infrastructures transports et routes | D110: MGT | E110: DEQ | F110: PAYS | G110: Travaux | H110: Mise aux normes de l'éclairage public routier RC de Moorea - Travaux | I110: Marché entre 100M XPF HT et 499M XPF HT | J110: Appel d'offres ouvert | K110: IDV | L110: Moorea | M110: 45658
A111: 4 | B111: =IF(C111="","",VLOOKUP(C111,'Domaines et sous domaines'!$D$3:$E$64,2,FALSE)) -> Biens immobiliers et travaux de construction | C111: Opération de travaux individuels infrastructures transports et routes | D111: MGT | E111: DEQ | F111: PAYS | G111: Travaux | H111: Mise en œuvre de dispositifs de retenue des RT - Archipel de la Société (3IF 2025) | I111: Marché entre 100M XPF HT et 499M XPF HT | J111: Appel d'offres ouvert | K111: IDV | L111: Tahiti - Moorea
A112: 4 | B112: =IF(C112="","",VLOOKUP(C112,'Domaines et sous domaines'!$D$3:$E$64,2,FALSE)) -> Biens immobiliers et travaux de construction | C112: Opération de travaux individuels infrastructures transports et routes | D112: MGT | E112: DEQ | F112: PAYS | G112: Travaux | H112: Réaménagement de la route de la vallée de la Papenoo depuis la route de ceinture -1ere tranche (3IF 2025) | I112: Marché entre 100M XPF HT et 499M XPF HT | J112: Appel d'offres ouvert | K112: IDV | L112: Tahiti
A113: 4 | B113: =IF(C113="","",VLOOKUP(C113,'Domaines et sous domaines'!$D$3:$E$64,2,FALSE)) -> Biens immobiliers et travaux de construction | C113: Opération de travaux individuels infrastructures transports et routes | D113: MGT | E113: DEQ | F113: PAYS | G113: Travaux | H113: Reconstruction du dalot PK 38,100 - Vairearea à Hitiaa (3IF 2025) | I113: Marché entre 100M XPF HT et 499M XPF HT | J113: Appel d'offres ouvert | K113: IDV | L113: Tahiti | M113: 45717
A114: 4 | B114: =IF(C114="","",VLOOKUP(C114,'Domaines et sous domaines'!$D$3:$E$64,2,FALSE)) -> Biens immobiliers et travaux de construction | C114: Opération de travaux individuels infrastructures transports et routes | D114: MGT | E114: DEQ | F114: PAYS | G114: Travaux | H114: Travaux de modernisation des ouvrages d'art des RT Tahiti (3IF 2025) | I114: Marché entre 100M XPF HT et 499M XPF HT | J114: Appel d'offres ouvert | K114: IDV | L114: Tahiti
A115: 4 | B115: =IF(C115="","",VLOOKUP(C115,'Domaines et sous domaines'!$D$3:$E$64,2,FALSE)) -> Biens immobiliers et travaux de construction | C115: Opération de travaux individuels infrastructures transports et routes | D115: MGT | E115: DEQ | F115: PAYS | G115: Travaux | H115: Travaux routiers et assainissement RT2, RT3 et RT7 - Tahiti (3IF 2025) | I115: Marché entre 100M XPF HT et 499M XPF HT | J115: Appel d'offres ouvert | K115: IDV | L115: Tahiti
A116: 4 | B116: =IF(C116="","",VLOOKUP(C116,'Domaines et sous domaines'!$D$3:$E$64,2,FALSE)) -> Biens immobiliers et travaux de construction | C116: Opération de travaux individuels infrastructures transports et routes | D116: MGT | E116: DEQ | F116: PAYS | G116: Travaux | H116: Aménagement et travaux routiers RT divers - Tahiti (3IF 2025) | I116: Marché entre 35M XPF HT et 99M XPF HT | J116: Appel d'offres ouvert | K116: IDV | L116: Tahiti
A117: 4 | B117: =IF(C117="","",VLOOKUP(C117,'Domaines et sous domaines'!$D$3:$E$64,2,FALSE)) -> Biens immobiliers et travaux de construction | C117: Opération de travaux individuels infrastructures transports et routes | D117: MGT | E117: DEQ | F117: PAYS | G117: Travaux | H117: Confortement et sécurisation des emprises routières et dépendances de Tahiti (3IF 2025) | I117: Marché entre 35M XPF HT et 99M XPF HT | J117: Appel d'offres ouvert | K117: IDV | L117: Tahiti
A118: 4 | B118: =IF(C118="","",VLOOKUP(C118,'Domaines et sous domaines'!$D$3:$E$64,2,FALSE)) -> Biens immobiliers et travaux de construction | C118: Opération de travaux individuels infrastructures transports et routes | D118: MGT | E118: DEQ | F118: PAYS | G118: Travaux | H118: Travaux d'aménagement de la RT Maharepa / Paopao - PK 6 à 9 Ouest (3IF 2025) | I118: Marché entre 100M XPF HT et 499M XPF HT | J118: Appel d'offres ouvert | K118: IDV | L118: Moorea
A119: 4 | B119: =IF(C119="","",VLOOKUP(C119,'Domaines et sous domaines'!$D$3:$E$64,2,FALSE)) -> Biens immobiliers et travaux de construction | C119: Opération de travaux individuels infrastructures transports et routes | D119: MGT | E119: DEQ | F119: PAYS | G119: Travaux | H119: Assainissement pluvial et réfection de chaussée RC Huahine (3IF 2025) | I119: Marché entre 100M XPF HT et 499M XPF HT | J119: Appel d'offres ouvert | K119: ISLV | L119: Huahine
A120: 4 | B120: =IF(C120="","",VLOOKUP(C120,'Domaines et sous domaines'!$D$3:$E$64,2,FALSE)) -> Biens immobiliers et travaux de construction | C120: Opération de travaux individuels infrastructures transports et routes | D120: MGT | E120: DEQ | F120: PAYS | G120: Travaux | H120: Assainissement pluvial et réfection de chaussée RC Tahaa (3IF 2025) | I120: Marché entre 35M XPF HT et 99M XPF HT | J120: Appel d'offres ouvert | K120: ISLV | L120: Tahaa
A121: 4 | B121: =IF(C121="","",VLOOKUP(C121,'Domaines et sous domaines'!$D$3:$E$64,2,FALSE)) -> Biens immobiliers et travaux de construction | C121: Opération de travaux individuels infrastructures transports et routes | D121: MGT | E121: DEQ | F121: PAYS | G121: Travaux | H121: Assainissement pluvial et réfection de chaussée RC Raiatea (3IF 2025) | I121: Marché entre 100M XPF HT et 499M XPF HT | J121: Appel d'offres ouvert | K121: ISLV | L121: Raiatea
A122: 4 | B122: =IF(C122="","",VLOOKUP(C122,'Domaines et sous domaines'!$D$3:$E$64,2,FALSE)) -> Biens immobiliers et travaux de construction | C122: Opération de travaux individuels infrastructures transports et routes | D122: MGT | E122: DEQ | F122: PAYS | G122: Travaux | H122: Aménagement d'un réseau de pistes cyclables sur RT Tahiti | I122: Marché entre 35M XPF HT et 99M XPF HT | J122: Appel d'offres ouvert | K122: IDV | L122: Tahiti | M122: 45992
A123: 4 | B123: =IF(C123="","",VLOOKUP(C123,'Domaines et sous domaines'!$D$3:$E$64,2,FALSE)) -> Biens immobiliers et travaux de construction | C123: Opération de travaux individuels infrastructures transports et routes | D123: MGT | E123: DEQ | F123: PAYS | G123: Travaux | H123: Assainissement pluvial et réfection de chaussée RC Bora Bora (3IF 2025) | I123: Marché entre 100M XPF HT et 499M XPF HT | J123: Appel d'offres ouvert | K123: ISLV | L123: Bora Bora | M123: 45658
A124: 4 | B124: =IF(C124="","",VLOOKUP(C124,'Domaines et sous domaines'!$D$3:$E$64,2,FALSE)) -> Biens immobiliers et travaux de construction | C124: Opération de travaux individuels infrastructures transports et routes | D124: MGT | E124: DEQ | F124: PAYS | G124: Travaux | H124: Sécurisation des talus du col de Toovii - Tranche 3 - Nuku Hiva (3IF 2025) | I124: Marché entre 100M XPF HT et 499M XPF HT | J124: Appel d'offres ouvert | K124: MARQUISES | L124: Nuku Hiva | M124: 45809
A125: 4 | B125: =IF(C125="","",VLOOKUP(C125,'Domaines et sous domaines'!$D$3:$E$64,2,FALSE)) -> Biens immobiliers et travaux de construction | C125: Opération de travaux individuels infrastructures transports et routes | D125: MGT | E125: DEQ | F125: PAYS | G125: Travaux | H125: Aérodrome de Hiva Oa - Reconstruction de la vigie (3IF 2013) | I125: Marché entre 100M XPF HT et 499M XPF HT | J125: Appel d'offres ouvert | K125: MARQUISES | L125: Hiva Oa | M125: 45809
A126: 4 | B126: =IF(C126="","",VLOOKUP(C126,'Domaines et sous domaines'!$D$3:$E$64,2,FALSE)) -> Biens immobiliers et travaux de construction | C126: Opération de travaux individuels infrastructures transports et routes | D126: MGT | E126: DEQ | F126: PAYS | G126: Travaux | H126: Renforcement de la RT entre Aakapa et l'aéroport de Terre Déserte - Tranche 1 - Nuku Hiva (3IF 2025) | I126: Marché entre 35M XPF HT et 99M XPF HT | J126: Appel d'offres ouvert | K126: MARQUISES | L126: Nuku Hiva | M126: 45809
...

Sheet Domaines et sous domaines
B2: LISTE DES DOMAINES | D2: SOUS-DOMAINE
B3: =E3 -> Energies, fluides, carburants | D3: Energies et fluides de carburants | E3: Energies, fluides, carburants | F3: Energies et fluides de carburants
B4: =E6 -> Informatique et Télécoms | D4: Energies et fluides hors réseau | E4: Energies, fluides, carburants | F4: Energies et fluides hors réseau
B5: =E12 -> Véhicules et services connexes | D5: Carburants, huiles, produits pétroliers | E5: Energies, fluides, carburants | F5: Carburants, huiles, produits pétroliers
B6: =E16 -> Transport de personnes et de biens | D6: Télécommunications | E6: Informatique et Télécoms | F6: Télécommunications
B7: =E20 -> Biens immobiliers et travaux de construction | D7: Logiciels | E7: Informatique et Télécoms | F7: Logiciels
B8: =E27 -> Maintenance et exploitation bâtiments et infrastructures | D8: Matériel informatique - Infrastructure | E8: Informatique et Télécoms | F8: Matériel informatique - Infrastructure
B9: =E32 -> Moyens de communication | D9: Matériel informatique - Petit matériel IT | E9: Informatique et Télécoms | F9: Matériel informatique - Petit matériel IT
B10: =E34 -> Moyens d'impression | D10: Prestations informatiques | E10: Informatique et Télécoms | F10: Prestations informatiques
B11: =E36 -> Prestations intellectuelles et formation | D11: Réseaux informatiques | E11: Informatique et Télécoms | F11: Réseaux informatiques
B12: =E39 -> Moyens généraux | D12: Véhicules terrestres | E12: Véhicules et services connexes | F12: Véhicules terrestres
B13: =E46 -> Défense et sécurité | D13: Autres modes de transport | E13: Véhicules et services connexes | F13: Autres modes de transport
B14: =E51 -> Santé et médecine | D14: Entretien, réparations et aménagement de véhicules | E14: Véhicules et services connexes | F14: Entretien, réparations et aménagement de véhicules
B15: =E56 -> Fournitures et matériels divers | D15: Location ou financement de véhicules | E15: Véhicules et services connexes | F15: Location ou financement de véhicules
B16: =E60 -> Prestations et services divers | D16: Affranchissement et expédition - hors logistique | E16: Transport de personnes et de biens | F16: Affranchissement et expédition - hors logistique
B17: =E64 -> Intérêts moratoires, indemnités, pénalités | D17: Transport de biens et logistique | E17: Transport de personnes et de biens | F17: Transport de biens et logistique
D18: Voyages et déplacements | E18: Transport de personnes et de biens | F18: Voyages et déplacements
D19: Prestation d'assistance en escale | E19: Transport de personnes et de biens | F19: Prestation d'assistance en escale
D20: Loyers, charges locatives et copropriété | E20: Biens immobiliers et travaux de construction | F20: Loyers, charges locatives et copropriété
D21: Opération de travaux individuels bâtiments | E21: Biens immobiliers et travaux de construction | F21: Opération de travaux individuels bâtiments
D22: Opération de travaux individuels infrastructures transports et routes | E22: Biens immobiliers et travaux de construction | F22: Opération de travaux individuels infrastructures transports et routes
D23: Prestations intellectuelles travaux | E23: Biens immobiliers et travaux de construction | F23: Prestations intellectuelles travaux
D24: Fournitures et matériel travaux bâtiments | E24: Biens immobiliers et travaux de construction | F24: Fournitures et matériel travaux bâtiments
D25: Fournitures et matériel infrastructures transports et routes | E25: Biens immobiliers et travaux de construction | F25: Fournitures et matériel infrastructures transports et routes
D26: Acquisition immobilière et foncière | E26: Biens immobiliers et travaux de construction | F26: Acquisition immobilière et foncière
D27: Prestation de services sur bâtiments | E27: Maintenance et exploitation bâtiments et infrastructures | F27: Prestation de services sur bâtiments
D28: Prestation de maintenance et réparation technique | E28: Maintenance et exploitation bâtiments et infrastructures | F28: Prestation de maintenance et réparation technique
D29: Prestation de travaux récurrents sur bâtiment | E29: Maintenance et exploitation bâtiments et infrastructures | F29: Prestation de travaux récurrents sur bâtiment
... D64: Intérêts moratoires, indemnités, pénalités | E64: Intérêts moratoires, indemnités, pénalités | F64: Intérêts moratoires, indemnités, pénalités
